BEGIN:VCALENDAR
VERSION:2.0
PRODID:icalendar-ruby
CALSCALE:GREGORIAN
METHOD:PUBLISH
BEGIN:VEVENT
DTSTAMP:20260426T010721Z
UID:6-1767390@tlcsm.org
DTSTART:20261024T220000Z
DTEND:20261024T230000Z
CLASS:PUBLIC
CREATED:20260425T200449
DESCRIPTION:
LAST-MODIFIED:20260425T200449
LOCATION:
SUMMARY:Worship
URL;VALUE=URI:https://tlcsm.org/events/worship/2026-10-24
END:VEVENT
END:VCALENDAR
