BEGIN:VCALENDAR
VERSION:2.0
PRODID:icalendar-ruby
CALSCALE:GREGORIAN
METHOD:PUBLISH
BEGIN:VEVENT
DTSTAMP:20260426T022643Z
UID:6-1767391@tlcsm.org
DTSTART:20261031T220000Z
DTEND:20261031T230000Z
CLASS:PUBLIC
CREATED:20260425T200449
DESCRIPTION:
LAST-MODIFIED:20260425T200449
LOCATION:
SUMMARY:Worship
URL;VALUE=URI:https://tlcsm.org/events/worship/2026-10-31
END:VEVENT
END:VCALENDAR
