BEGIN:VCALENDAR
VERSION:2.0
PRODID:icalendar-ruby
CALSCALE:GREGORIAN
METHOD:PUBLISH
BEGIN:VEVENT
DTSTAMP:20260426T034036Z
UID:6-1767392@tlcsm.org
DTSTART:20261107T230000Z
DTEND:20261108T000000Z
CLASS:PUBLIC
CREATED:20260425T200449
DESCRIPTION:
LAST-MODIFIED:20260425T200449
LOCATION:
SUMMARY:Worship
URL;VALUE=URI:https://tlcsm.org/events/worship/2026-11-07
END:VEVENT
END:VCALENDAR
